BEGIN:VCALENDAR
VERSION:2.0
PRODID:-//Scouts of Atilla - ECPv6.15.20//NONSGML v1.0//EN
CALSCALE:GREGORIAN
METHOD:PUBLISH
X-ORIGINAL-URL:https://www.scoutsofatilla.ch
X-WR-CALDESC:Évènements pour Scouts of Atilla
REFRESH-INTERVAL;VALUE=DURATION:PT1H
X-Robots-Tag:noindex
X-PUBLISHED-TTL:PT1H
BEGIN:VTIMEZONE
TZID:Europe/Zurich
BEGIN:DAYLIGHT
TZOFFSETFROM:+0100
TZOFFSETTO:+0200
TZNAME:CEST
DTSTART:20260329T010000
END:DAYLIGHT
BEGIN:STANDARD
TZOFFSETFROM:+0200
TZOFFSETTO:+0100
TZNAME:CET
DTSTART:20261025T010000
END:STANDARD
BEGIN:DAYLIGHT
TZOFFSETFROM:+0100
TZOFFSETTO:+0200
TZNAME:CEST
DTSTART:20270328T010000
END:DAYLIGHT
BEGIN:STANDARD
TZOFFSETFROM:+0200
TZOFFSETTO:+0100
TZNAME:CET
DTSTART:20271031T010000
END:STANDARD
BEGIN:DAYLIGHT
TZOFFSETFROM:+0100
TZOFFSETTO:+0200
TZNAME:CEST
DTSTART:20280326T010000
END:DAYLIGHT
BEGIN:STANDARD
TZOFFSETFROM:+0200
TZOFFSETTO:+0100
TZNAME:CET
DTSTART:20281029T010000
END:STANDARD
END:VTIMEZONE
BEGIN:VEVENT
DTSTART;TZID=Europe/Zurich:20270215T000000
DTEND;TZID=Europe/Zurich:20270221T235959
DTSTAMP:20260425T174428
CREATED:20251103T100533Z
LAST-MODIFIED:20260217T154351Z
UID:236-1802649600-1803254399@www.scoutsofatilla.ch
SUMMARY:Chasse aux nuisibles (la nuit avec lunette thermique) en Hongrie
DESCRIPTION:Frais de participation : \nAutorisation de chasse et frais administratifs sur place (assurance comprise): 130 CHF/personne \nForfait journalier:  50 CHF/jour \n( Après chaque 2ème  espèce tiré une journé suplémentaire offert gratuitement) \nPréparation du trophée : 15 CHF \nJugement du trophée : 15 CHF \nPréparation du peau: sur demande. \n  \nEspèces chassables: \n\nChacal doré\nChien viverrin\nRaton laveur\nRenard\nFouine\nRat musqué\nBlaireau\nFuret\n\n  \nHébergement et repas : \nAu bord du lac Balaton\, a 30-45 minutes du terrain de chasse. \nLes prix dépend du notre exigences personnelles 🙂 \n  \nPlaces disponibles : max. 5 à 10 personnes (1 ou 2 voitures) \n  \nPrix de réservation : 250 CHF (frais d’administration\, les forfaits journalier etc. qu’on doit payer en avance.) \n  \nPas des frais d’organisation\, mais une don pour l’association est toujours bienvenu. Merci d’y penser 🙂 \n  \nContact : Tibor | 079/628.48.09 | tibor@xwolf.ch \n 
URL:https://www.scoutsofatilla.ch/event/chasse-aux-nuisibles-en-hongrie/
LOCATION:Balaton\, Balatonalmádi\, Hungary
ATTACH;FMTTYPE=image/jpeg:https://www.scoutsofatilla.ch/wp-content/uploads/2025/11/aranysakal-1152x768-1.jpg
END:VEVENT
END:VCALENDAR