BEGIN:VCALENDAR
VERSION:2.0
PRODID:-//Scouts of Atilla - ECPv6.15.20//NONSGML v1.0//EN
CALSCALE:GREGORIAN
METHOD:PUBLISH
X-WR-CALNAME:Scouts of Atilla
X-ORIGINAL-URL:https://www.scoutsofatilla.ch
X-WR-CALDESC:Évènements pour Scouts of Atilla
REFRESH-INTERVAL;VALUE=DURATION:PT1H
X-Robots-Tag:noindex
X-PUBLISHED-TTL:PT1H
BEGIN:VTIMEZONE
TZID:Europe/Zurich
BEGIN:DAYLIGHT
TZOFFSETFROM:+0100
TZOFFSETTO:+0200
TZNAME:CEST
DTSTART:20250330T010000
END:DAYLIGHT
BEGIN:STANDARD
TZOFFSETFROM:+0200
TZOFFSETTO:+0100
TZNAME:CET
DTSTART:20251026T010000
END:STANDARD
BEGIN:DAYLIGHT
TZOFFSETFROM:+0100
TZOFFSETTO:+0200
TZNAME:CEST
DTSTART:20260329T010000
END:DAYLIGHT
BEGIN:STANDARD
TZOFFSETFROM:+0200
TZOFFSETTO:+0100
TZNAME:CET
DTSTART:20261025T010000
END:STANDARD
BEGIN:DAYLIGHT
TZOFFSETFROM:+0100
TZOFFSETTO:+0200
TZNAME:CEST
DTSTART:20270328T010000
END:DAYLIGHT
BEGIN:STANDARD
TZOFFSETFROM:+0200
TZOFFSETTO:+0100
TZNAME:CET
DTSTART:20271031T010000
END:STANDARD
END:VTIMEZONE
BEGIN:VEVENT
DTSTART;TZID=Europe/Zurich:20261019T000000
DTEND;TZID=Europe/Zurich:20261025T235959
DTSTAMP:20260425T154519
CREATED:20260410T052545Z
LAST-MODIFIED:20260410T054831Z
UID:1086-1792368000-1792972799@www.scoutsofatilla.ch
SUMMARY:Chasse aux élans en Suède
DESCRIPTION:Nous pratiquons la chasse depuis 2023\, à environ 30 km au nord-ouest d’Umeå. Nous avons commencé avec 400 ha et nous en possédons aujourd’hui près de 1 000. Il est possible de louer de 3 000 à 4 000 ha à la semaine\, moyennant un supplément. Nous sommes à environ 1 h 30 à 2 h de la Laponie.  \nLa population d’élans y est importante. Nous chassons principalement à l’affût\, mais le choix des emplacements est toujours laissé à la discrétion du chef de chasse et du vent. Il nous arrive aussi de chasser seulement avec des chiens\, sans mirador: des emplacements numérotés\, marqués par GPS\, sont attribués à chaque chasseur par le chef de chasse.  \nÀ partir d’octobre\, en raison de la neige et du froid\, de plus en plus d’élans migrent de Laponie vers cet endroit\, car les températures y sont souvent de -35 à -40 degrés\, ce qui rend la recherche de nourriture plus difficile.  \nDans la plupart des zones de chasse\, l’affût est pratiqué. La route goudronnée la plus proche se trouve à 5 km et la zone habitée la plus proche à 20 km. Les animaux adorent cet endroit car il est calme\, sans voitures et si quelqu’un s’y perd\, c’est généralement pour retrouver son chien de chasse…  \nSi vous recherchez la paix\, le calme et des expériences uniques\, il n’y a pas de meilleur endroit.  \nAchetez votre billet dans notre boutique ou via ce code:
URL:https://www.scoutsofatilla.ch/event/chasse-aux-elans-en-suede/
LOCATION:Umea\, Umea\, Sweden
CATEGORIES:Chasse
ATTACH;FMTTYPE=image/jpeg:https://www.scoutsofatilla.ch/wp-content/uploads/2026/04/11.jpeg
END:VEVENT
END:VCALENDAR