BEGIN:VCALENDAR
VERSION:2.0
PRODID:-//Scouts of Atilla - ECPv6.15.20//NONSGML v1.0//EN
CALSCALE:GREGORIAN
METHOD:PUBLISH
X-WR-CALNAME:Scouts of Atilla
X-ORIGINAL-URL:https://www.scoutsofatilla.ch
X-WR-CALDESC:Évènements pour Scouts of Atilla
REFRESH-INTERVAL;VALUE=DURATION:PT1H
X-Robots-Tag:noindex
X-PUBLISHED-TTL:PT1H
BEGIN:VTIMEZONE
TZID:Europe/Zurich
BEGIN:DAYLIGHT
TZOFFSETFROM:+0100
TZOFFSETTO:+0200
TZNAME:CEST
DTSTART:20250330T010000
END:DAYLIGHT
BEGIN:STANDARD
TZOFFSETFROM:+0200
TZOFFSETTO:+0100
TZNAME:CET
DTSTART:20251026T010000
END:STANDARD
BEGIN:DAYLIGHT
TZOFFSETFROM:+0100
TZOFFSETTO:+0200
TZNAME:CEST
DTSTART:20260329T010000
END:DAYLIGHT
BEGIN:STANDARD
TZOFFSETFROM:+0200
TZOFFSETTO:+0100
TZNAME:CET
DTSTART:20261025T010000
END:STANDARD
BEGIN:DAYLIGHT
TZOFFSETFROM:+0100
TZOFFSETTO:+0200
TZNAME:CEST
DTSTART:20270328T010000
END:DAYLIGHT
BEGIN:STANDARD
TZOFFSETFROM:+0200
TZOFFSETTO:+0100
TZNAME:CET
DTSTART:20271031T010000
END:STANDARD
END:VTIMEZONE
BEGIN:VEVENT
DTSTART;TZID=Europe/Zurich:20261003T000000
DTEND;TZID=Europe/Zurich:20261011T235959
DTSTAMP:20260425T174626
CREATED:20251103T092341Z
LAST-MODIFIED:20260410T061753Z
UID:224-1790985600-1791763199@www.scoutsofatilla.ch
SUMMARY:Chasse aux petits gibiers en Hongrie
DESCRIPTION:  \nDates : 03 – 11 octobre 2026  | Places disponibles: 17 / 20 | Délais d’inscription: 01.06.202 \n  \nFrais de participation : \nAutorisation de chasse et frais administratifs sur place (assurance comprise) : 130 CHF/personne \n  \nForfait journalier (gratuit à partir de 100 espèces tirées) : 60 CHF/jour \n  \n\nLièvre : 50 CHF/pièce\nFaisan : 26 CHF/pièce\n\nTir de régulation : \n\nChevreuil non coiffé : 50 CHF/pièce (+possibilité d’acheter la viande à une prix avantageux)\nNuisibles : gratuit ( renard\, blaireau\, chacals doré)\n\n  \nGibier sauvage\, pas d’élevage. Les prix comprennent le transport pendant la chasse\, le thé\, le café\, les scones et 5 trackeurs par chasse. \n  \nHébergement : \n  \n40 CHF/personne/nuit \nSi vous voulez vôtre chien dans la chambre : +25 CHF/chien (supplément pour le nettoyage) \n  \nPour un maximum de 20 personnes dans 7 chambres (3 x 2 lits\, 2 x 3 lits\, 2 x 4 lits\, avec climatisation\, Wi-Fi\, toilettes et salles de bain individuelles dans chaque chambre). \nDans le jardin\, 4 chenils couverts et avec tapis pour chiens sont à votre disposition gratuitement. \n  \nRepas : \n  \nPetit déjeuner : 10 CHF \n(jambon\, charcuterie fumée\, saucisson\, bacon\, œufs\, fromage\, beurre\, miel\, légumes frais) \n  \nRepas chaud à midi : 25 CHF \n– Soupe (froide – chaude\, selon les demandes) \n– Plat principal : plat de viande\, avec accompagnement (civet de gibier\, civet de volaille\, rôti\, etc.) \n– Dessert \n– Fruits \n  \nPaquet repas pour la journée : 6 CHF \n  \n– 2 sandwichs \n– Fruits \n– Confiseries\, chocolat \n– 0\,5 l d’eau minérale \n  \nAutres prestations : \n– Préparation des faisans et des lièvres (livré en sachet\, lavé\, réfrigéré) 4 CHF / pièce \n  \n  \n  \n  \nDates : 03 – 11 octobre 2026 \n  \nDéplacement et visiter Budapest: le 03 et 04 octobre \nChasse: entre de 05 à 09 octobre \nJournée spa et retour le 10 et 11 octobre \n  \n  \n  \n  \nPlaces disponibles : max. 20 personnes \nPrix de réservation : 500 CHF (frais d’administration\, les forfaits journalier etc. qu’on doit payer en avance.) \nPas des frais d’organisation\, mais une don pour l’association est toujours bienvenu. Merci d’y penser 🙂 \n  \nPour plus ‘informations contacter : Tibor | 079/628.48.09 | tibor@xwolf.ch \nAchetez votre billet dans notre boutique ou via ce code: \n \n  \n 
URL:https://www.scoutsofatilla.ch/event/chasse-aux-petits-gibiers-en-hongrie/
LOCATION:Békés megye\, Békés megye\, Hungary
ATTACH;FMTTYPE=image/jpeg:https://www.scoutsofatilla.ch/wp-content/uploads/2025/11/mezei-nyul.jpg
END:VEVENT
END:VCALENDAR